BEGIN:VCALENDAR
VERSION:2.0
PRODID:-//Encore Stage &amp; Studio - ECPv6.15.20//NONSGML v1.0//EN
CALSCALE:GREGORIAN
METHOD:PUBLISH
X-ORIGINAL-URL:https://encorestage.org
X-WR-CALDESC:Events for Encore Stage &amp; Studio
REFRESH-INTERVAL;VALUE=DURATION:PT1H
X-Robots-Tag:noindex
X-PUBLISHED-TTL:PT1H
BEGIN:VTIMEZONE
TZID:UTC
BEGIN:STANDARD
TZOFFSETFROM:+0000
TZOFFSETTO:+0000
TZNAME:UTC
DTSTART:20250101T000000
END:STANDARD
END:VTIMEZONE
BEGIN:VEVENT
DTSTART;TZID=UTC:20260123T100000
DTEND;TZID=UTC:20260123T160000
DTSTAMP:20260422T181311
CREATED:20251022T181827Z
LAST-MODIFIED:20251107T173821Z
UID:6988-1769162400-1769184000@encorestage.org
SUMMARY:Seabrook Zombies Mini-Camp & Play in a Day
DESCRIPTION:When school’s off\, Encore’s on…onstage\, that is!  While school is on a short vacation\, Encore will take its students on a vacation of a lifetime–into popular films/stories and literary destinations! \nStudents in grades K-2 will discover the world of theatre through different themes! Enjoy a day of theatre games\, crafts\, creative activities\, and storytelling in a safe and supportive environment. Students in grades 3-5  will craft\, play and learn about theatre through storytelling and create a play in just one day! \nExplore the world of Theatre along side the Students of Seabrook High! Witch characters like Addison and Zed\, along with a cast full of Werewolves\, Aliens\, Vampires\, and Zombies\, this adventure is sure to be spectacular. Enjoy a day of theatre games\, crafts\, creative activities\, and storytelling in a safe and supportive environment. \nFriday\, January 23\, 2026  | 10:00am-4:00pm | Encore @ Fairlington  \nAM & PM Extended Care available for an additional fee \n$20 AM Extended Care \n$20 PM Extended Care \nLocation: Encore @ Fairlington Presbyterian Church (3846 King St\, Alexandria\, VA 22302)
URL:https://encorestage.org/event/seabrook-zombies-mini-camp-play-in-a-day/
LOCATION:Encore @ Fairlington\, 3846 King St\, Alexandria\, VA\, 22302\, United States
CATEGORIES:Camp
ATTACH;FMTTYPE=image/png:https://encorestage.org/wp-content/uploads/2025/10/2025-Holiday-Mini-Camps-PIAD-14-1.png
ORGANIZER;CN="Encore Stage and Studio":MAILTO:info@encorestage.org
END:VEVENT
BEGIN:VEVENT
DTSTART;TZID=UTC:20260126T100000
DTEND;TZID=UTC:20260126T160000
DTSTAMP:20260422T181311
CREATED:20251022T182133Z
LAST-MODIFIED:20251022T182134Z
UID:6990-1769421600-1769443200@encorestage.org
SUMMARY:Descendants Mini-Camp & Play in a Day
DESCRIPTION:When school’s off\, Encore’s on…onstage\, that is!  While school is on a short vacation\, Encore will take its students on a vacation of a lifetime–into popular films/stories and literary destinations! \nStudents in grades K-2 will discover the world of theatre through different themes! Enjoy a day of theatre games\, crafts\, creative activities\, and storytelling in a safe and supportive environment. Students in grades 3-5  will craft\, play and learn about theatre through storytelling and create a play in just one day! \nUnlock your inner Villlian kid as you descend into the world of theatre along side characters like Mal\, Carlos\, Jay and Evie and the rest of the VKs! Enjoy a day of theatre games\, crafts\, creative activities\, and storytelling in a safe and supportive environment. \nMonday\, January 26\, 2026 | 10:00am-4:00pm | Encore @ Fairlington  \nAM & PM Extended Care available for an additional fee \nEncore @ Fairlington Presbyterian Church (3846 King St\, Alexandria\, VA 22302) \n$20 AM Extended Care\n$20 PM Extended Care
URL:https://encorestage.org/event/descendants-mini-camp-play-in-a-day-2/
LOCATION:Encore @ Fairlington\, 3846 King St\, Alexandria\, VA\, 22302\, United States
CATEGORIES:Camp
ATTACH;FMTTYPE=image/png:https://encorestage.org/wp-content/uploads/2025/10/2025-Holiday-Mini-Camps-PIAD-1.png
ORGANIZER;CN="Encore Stage and Studio":MAILTO:info@encorestage.org
END:VEVENT
END:VCALENDAR