BEGIN:VCALENDAR
VERSION:2.0
PRODID:-//Encore Stage &amp; Studio - ECPv6.15.20//NONSGML v1.0//EN
CALSCALE:GREGORIAN
METHOD:PUBLISH
X-ORIGINAL-URL:https://encorestage.org
X-WR-CALDESC:Events for Encore Stage &amp; Studio
REFRESH-INTERVAL;VALUE=DURATION:PT1H
X-Robots-Tag:noindex
X-PUBLISHED-TTL:PT1H
BEGIN:VTIMEZONE
TZID:UTC
BEGIN:STANDARD
TZOFFSETFROM:+0000
TZOFFSETTO:+0000
TZNAME:UTC
DTSTART:20250101T000000
END:STANDARD
END:VTIMEZONE
BEGIN:VEVENT
DTSTART;TZID=UTC:20260421T100000
DTEND;TZID=UTC:20260421T160000
DTSTAMP:20260421T091710
CREATED:20260403T195215Z
LAST-MODIFIED:20260403T195223Z
UID:8280-1776765600-1776787200@encorestage.org
SUMMARY:April 21 Holiday Mini-Camp
DESCRIPTION:Holiday Mini Camps for Grades K-2\nPlay in a Day for Grades 3-5\nWhen school’s off\, Encore’s on…onstage\, that is!  While school is on a short vacation\, Encore will take its students on a vacation of a lifetime–into popular films/stories and literary destinations! \nStudents in grades K-2 will discover the world of theatre through different themes! Enjoy a day of theatre games\, crafts\, creative activities\, and storytelling in a safe and supportive environment. Students in grades 3-5  will craft\, play and learn about theatre through storytelling and create a play in just one day!
URL:https://encorestage.org/event/april-21-holiday-mini-camp/
LOCATION:Encore @ Cherrydale\, 3701 Lorcom Ln\, Arlington\, 22207\, United States
CATEGORIES:Camp
ATTACH;FMTTYPE=image/png:https://encorestage.org/wp-content/uploads/2026/04/2025-Holiday-Mini-Camps-PIAD-BTB.png
ORGANIZER;CN="Encore Stage and Studio":MAILTO:info@encorestage.org
END:VEVENT
BEGIN:VEVENT
DTSTART;TZID=UTC:20260422T083000
DTEND;TZID=UTC:20260422T100000
DTSTAMP:20260421T091710
CREATED:20260403T194028Z
LAST-MODIFIED:20260403T194540Z
UID:8268-1776846600-1776852000@encorestage.org
SUMMARY:Dreams Come True Together -- A Benefit Breakfast
DESCRIPTION:Please join us to celebrate and learn more about all the ways dreams come true at Encore–onstage\, backstage\, in the classroom\, and in the audience!\nApril 22\, 2026\nWashington Golf & Country Club\n3017 N. Glebe Road Arlington VA \n8:30 – 9:00 a.m. Networking and breakfast\n9:00 – 9:45 a.m. Program\, including performances by our students\nEnjoy complimentary breakfast with Encore as we raise critical funds for our award-winning theatre arts education\, outreach and productions for children and youth. \nRSVP Today: https://encorestage.org/breakfast/ \nThank you to our Breakfast sponsors:\nGold\nKensington Senior Living\nRedcoats/Datawatch Systems\nSilver\nPediatric Associates of  Alexandria\nWild Birds Unlimited\nBronze\nAnnabel Burch-Murton | Compass\nBrock Realty\nBoys Gotta Run\nGNS Serivces LLC\nGroff Landscapes\nPietanza\n(as of March 23\, 2026)
URL:https://encorestage.org/event/dreams-come-true-together-a-benefit-breakfast/
LOCATION:Washington Golf & Country Club\, 3017 N. Glebe Road\, Arlington\, VA\, 22207\, United States
ATTACH;FMTTYPE=image/png:https://encorestage.org/wp-content/uploads/2026/04/26-Breakfast-2026-7x5-1.png
ORGANIZER;CN="Encore Stage and Studio":MAILTO:info@encorestage.org
END:VEVENT
BEGIN:VEVENT
DTSTART;TZID=UTC:20260425T113000
DTEND;TZID=UTC:20260425T130000
DTSTAMP:20260421T091710
CREATED:20251024T152419Z
LAST-MODIFIED:20251024T152419Z
UID:7072-1777116600-1777122000@encorestage.org
SUMMARY:Session Eleven: Saturday On Stage - Seussical Kids (Grades 3-5)
DESCRIPTION:Take you acting skills to the next level with Saturday on Stage! Seussical Kids is a musical that takes us into the world of Dr. Seuss\, with beloved characters including The Cat in The Hat\, Horton the Elephant and more! Students bring to life the stories of friendship\, loyalty and love. Develop your musical theatre skills in this 1.5-hour class culminating in a musical performance! \nSaturdays\, January 24 – May 2\, 2026 (12 sessions)\nClass dates: 1/24\, 1/31\, 2/7\, 2/21\, 2/28\, 3/7\, 3/14\, 3/21\, 4/11\, 4/18\, 4/25\, 5/2\n(NO CLASS 3/28\, 4/4) \nTime: 11:30am – 1:00pm \nLocation: Encore @ Cherrydale United Methodist Church (3701 Lorcom Ln\, Arlington\, VA 22207) \nFee: $335 \nWinter Registration Opens November 1st!
URL:https://encorestage.org/event/session-eleven-saturday-on-stage-seussical-kids-grades-3-5/
LOCATION:Encore @ Cherrydale\, 3701 Lorcom Ln\, Arlington\, 22207\, United States
CATEGORIES:Classes
ATTACH;FMTTYPE=image/png:https://encorestage.org/wp-content/uploads/2025/10/seussical-kids.png
ORGANIZER;CN="Encore Stage and Studio":MAILTO:info@encorestage.org
END:VEVENT
BEGIN:VEVENT
DTSTART;TZID=UTC:20260426T080000
DTEND;TZID=UTC:20260426T170000
DTSTAMP:20260421T091710
CREATED:20260403T194921Z
LAST-MODIFIED:20260403T194934Z
UID:8275-1777190400-1777222800@encorestage.org
SUMMARY:Encore @ LBA's Earth Day Festival
DESCRIPTION:Join Encore and the Langston Boulevard Alliance for the Earth Day Every Day Street Festival on Sunday\, April 26th from 11 am-5 pm in front of the Lee Heights Shops. The festival is a family-friendly event featuring live music\, a sustainable art market\, environmental education exhibits\, hands-on children’s activities\, great food\, and more!
URL:https://encorestage.org/event/encore-lbas-earth-day-festival/
LOCATION:Outside Lee Heights Shopping Center\, 4550 Cherry Hill Rd\, Arlington\, VA\, 22207\, United States
ATTACH;FMTTYPE=image/png:https://encorestage.org/wp-content/uploads/2026/04/find_us_at_earth_day_square.png
END:VEVENT
END:VCALENDAR