BEGIN:VCALENDAR
VERSION:2.0
PRODID:-//Encore Stage &amp; Studio - ECPv6.15.20//NONSGML v1.0//EN
CALSCALE:GREGORIAN
METHOD:PUBLISH
X-ORIGINAL-URL:https://encorestage.org
X-WR-CALDESC:Events for Encore Stage &amp; Studio
REFRESH-INTERVAL;VALUE=DURATION:PT1H
X-Robots-Tag:noindex
X-PUBLISHED-TTL:PT1H
BEGIN:VTIMEZONE
TZID:UTC
BEGIN:STANDARD
TZOFFSETFROM:+0000
TZOFFSETTO:+0000
TZNAME:UTC
DTSTART:20240101T000000
END:STANDARD
END:VTIMEZONE
BEGIN:VEVENT
DTSTART;TZID=UTC:20251025T103000
DTEND;TZID=UTC:20251025T123000
DTSTAMP:20260424T132653
CREATED:20250910T153833Z
LAST-MODIFIED:20250910T153833Z
UID:6791-1761388200-1761395400@encorestage.org
SUMMARY:Workshop: Halloween Make-Up (Ages 9+)
DESCRIPTION:Join us for a special Halloween-themed Make-up Workshop! Learn the techniques that go into creating a range of characters! Each participant will go home with their own Ben Nye Make-up Kit! \nSaturday\, October 25\, 2025\nTime: 10:30am–12:30pm \nLocation: Encore @ Cherrydale United Methodist Church (3701 Lorcom Lane\, Arlington\, VA 22207) \nFee: $60 (includes Ben Nye Make-up Kit to take home) \nNo refunds will be issued unless the workshop is cancelled.
URL:https://encorestage.org/event/workshop-halloween-make-up-ages-9/
LOCATION:Encore @ Cherrydale\, 3701 Lorcom Ln\, Arlington\, 22207\, United States
CATEGORIES:Classes,Workshop
ATTACH;FMTTYPE=image/png:https://encorestage.org/wp-content/uploads/2025/09/OCT-25-Halloween-Workshop.png
ORGANIZER;CN="Encore Stage and Studio":MAILTO:info@encorestage.org
END:VEVENT
END:VCALENDAR