BEGIN:VCALENDAR
VERSION:2.0
PRODID:-//Encore Stage &amp; Studio - ECPv6.15.20//NONSGML v1.0//EN
CALSCALE:GREGORIAN
METHOD:PUBLISH
X-ORIGINAL-URL:https://encorestage.org
X-WR-CALDESC:Events for Encore Stage &amp; Studio
REFRESH-INTERVAL;VALUE=DURATION:PT1H
X-Robots-Tag:noindex
X-PUBLISHED-TTL:PT1H
BEGIN:VTIMEZONE
TZID:UTC
BEGIN:STANDARD
TZOFFSETFROM:+0000
TZOFFSETTO:+0000
TZNAME:UTC
DTSTART:20220101T000000
END:STANDARD
END:VTIMEZONE
BEGIN:VEVENT
DTSTART;TZID=UTC:20231221T100000
DTEND;TZID=UTC:20231221T160000
DTSTAMP:20260424T090215
CREATED:20230824T154610Z
LAST-MODIFIED:20230824T154712Z
UID:2205-1703152800-1703174400@encorestage.org
SUMMARY:North Arlington- Mini-Camp & Play in a Day (Winter Break)
DESCRIPTION:When school’s off\, Encore’s on…onstage\, that is! Students in grades K-5 will discover the world of theatre through Mary Poppins! Have a jolly holiday adventure with Bert\, Mary and the Banks children! Enjoy a day of theatre games\, crafts\, creative activities\, and storytelling in a safe and supportive environment! \nThursday December 21\, 2023 | Encore @ Cherrydale | 10am – 4pm \nHoliday Mini-Camp (Grades K-2): Mary Poppins \nPlay in a Day (Grades 3-5): Mary Poppins \n(extended hours are available for additional fee) \nFee: $90 \nEncore @ Cherrydale United Methodist Church (3701 Lorcom Ln\, Arlington\, VA 22207) \nClick here to sign up!
URL:https://encorestage.org/event/north-arlington-mini-camp-play-in-a-day-winter-break/
LOCATION:Encore @ Cherrydale\, 3701 Lorcom Ln\, Arlington\, 22207\, United States
CATEGORIES:Camp
ATTACH;FMTTYPE=image/png:https://encorestage.org/wp-content/uploads/2023/08/Holiday-Mini-Mary-Poppins.png
ORGANIZER;CN="Encore Stage and Studio":MAILTO:info@encorestage.org
END:VEVENT
BEGIN:VEVENT
DTSTART;TZID=UTC:20231122T100000
DTEND;TZID=UTC:20231122T160000
DTSTAMP:20260424T090215
CREATED:20230824T154016Z
LAST-MODIFIED:20230824T154016Z
UID:2203-1700647200-1700668800@encorestage.org
SUMMARY:North Arlington- Mini-Camp & Play in a Day (Thanksgiving Break)
DESCRIPTION:When school’s off\, Encore’s on…onstage\, that is! Students in grades K-5 will discover the world of theatre through How to Train Your Dragon! Craft\, play and learn about theatre through storytelling! \nWednesday November 22\, 2023 | Encore @ Cherrydale | 10am – 4pm \nHoliday Mini-Camp (Grades K-2): How to Train Your Dragon \nPlay in a Day (Grades 3-5): How to Train Your Dragon \n(extended hours are available for additional fee) \nFee: $90 \nEncore @ Cherrydale United Methodist Church (3701 Lorcom Ln\, Arlington\, VA 22207) \nClick here to sign up! \n  \n 
URL:https://encorestage.org/event/north-arlington-mini-camp-play-in-a-day-thanksgiving-break/
LOCATION:Encore @ Cherrydale\, 3701 Lorcom Ln\, Arlington\, 22207\, United States
CATEGORIES:Camp
ATTACH;FMTTYPE=image/png:https://encorestage.org/wp-content/uploads/2023/08/Holiday-Mini-How-to-train-your-dragon.png
ORGANIZER;CN="Encore Stage and Studio":MAILTO:info@encorestage.org
END:VEVENT
BEGIN:VEVENT
DTSTART;TZID=UTC:20231110T100000
DTEND;TZID=UTC:20231110T160000
DTSTAMP:20260424T090215
CREATED:20230824T152632Z
LAST-MODIFIED:20230824T152632Z
UID:2201-1699610400-1699632000@encorestage.org
SUMMARY:North Arlington- Mini-Camp & Play in a Day (Veterans Day)
DESCRIPTION:When school’s off\, Encore’s on…onstage\, that is! Students in grades K-5 will discover the world of theatre through the Sword in the Stone! Create adventures with Arthur\, Merlin and Madam Mim! Enjoy a day of theatre games\, crafts\, creative activities\, and storytelling in a safe and supportive environment. \nFriday November 10\, 2023 | Encore @ Cherrydale | 10am – 4pm \nHoliday Mini-Camp (Grades K-2): The Sword in the Stone \nPlay in a Day (Grades 3-5): The Sword in the Stone \n(extended hours are available for additional fee) \nFee: $90 \nEncore @ Cherrydale United Methodist Church (3701 Lorcom Ln\, Arlington\, VA 22207) \nClick here to sign up!
URL:https://encorestage.org/event/north-arlington-mini-camp-play-in-a-day-veterans-day/
LOCATION:Encore @ Cherrydale\, 3701 Lorcom Ln\, Arlington\, 22207\, United States
CATEGORIES:Camp
ATTACH;FMTTYPE=image/png:https://encorestage.org/wp-content/uploads/2023/08/Holiday-Mini-The-Sword-and-the-Stone.png
ORGANIZER;CN="Encore Stage and Studio":MAILTO:info@encorestage.org
END:VEVENT
BEGIN:VEVENT
DTSTART;TZID=UTC:20231107T100000
DTEND;TZID=UTC:20231107T160000
DTSTAMP:20260424T090215
CREATED:20230824T160037Z
LAST-MODIFIED:20230824T161123Z
UID:2209-1699351200-1699372800@encorestage.org
SUMMARY:South Arlington- Mini-Camp & Play in a Day (Grade Prep Day)
DESCRIPTION:When school’s off\, Encore’s on…onstage\, that is! Students in grades K-5 will discover the world of theatre through The Wizard of Oz with characters including Dorothy\, the Tin Man\, the Cowardly Lion\, and more! Enjoy a day of theatre games\, crafts\, creative activities\, and storytelling in a safe and supportive environment. \nFriday\, November 7\, 2023 | Encore @ Theatre on the Run | 10am – 4pm \nHoliday Mini-Camp (Grades K-2): The Wizard of Oz \nPlay in a Day (Grades 3-5): The Wizard of Oz \n(extended hours are available for additional fee) \nFee: $90 \nTheatre On The Run (3700 S. Four Mile Run Dr. Arlington\, VA 22206) \nClick here to sign up!
URL:https://encorestage.org/event/south-arlington-mini-camp-play-in-a-day-grade-prep-day/
LOCATION:Encore @ Theatre on the Run\, 3700 S. Four Mile Run Dr.\, Arlington\, VA\, 22206\, United States
CATEGORIES:Camp
ATTACH;FMTTYPE=image/png:https://encorestage.org/wp-content/uploads/2023/08/Alexandriaa-mini-Wizard-of-Oz-1.png
ORGANIZER;CN="Encore Stage and Studio":MAILTO:info@encorestage.org
END:VEVENT
BEGIN:VEVENT
DTSTART;TZID=UTC:20231107T100000
DTEND;TZID=UTC:20231107T160000
DTSTAMP:20260424T090215
CREATED:20230824T150816Z
LAST-MODIFIED:20230824T151843Z
UID:2195-1699351200-1699372800@encorestage.org
SUMMARY:North Arlington- Mini-Camp & Play in a Day (Grade Prep Day)
DESCRIPTION:When school’s off\, Encore’s on…onstage\, that is! Students in grades K-5 will discover the world of theatre through Zootopia! Create rescue adventures with Judy Hopps and Nick Wilde! Enjoy a day of theatre games\, crafts\, creative activities\, and storytelling in a safe and supportive environment. \nTuesday November 7\, 2023 | Encore @ Cherrydale | 10am – 4pm \nHoliday Mini-Camp (Grades K-2): Zootopia \nPlay in a Day (Grades 3-5): Zootopia \n(extended hours are available for additional fee) \nFee: $90 \nEncore @ Cherrydale United Methodist Church (3701 Lorcom Ln\, Arlington\, VA 22207) \nClick here to sign up!
URL:https://encorestage.org/event/north-arlington-mini-camp-play-in-a-day-grade-prep-day/
LOCATION:Encore @ Cherrydale\, 3701 Lorcom Ln\, Arlington\, 22207\, United States
CATEGORIES:Camp
ATTACH;FMTTYPE=image/png:https://encorestage.org/wp-content/uploads/2023/08/Holiday-Mini-Zootopia.png
ORGANIZER;CN="Encore Stage and Studio":MAILTO:info@encorestage.org
END:VEVENT
BEGIN:VEVENT
DTSTART;TZID=UTC:20231103T100000
DTEND;TZID=UTC:20231103T160000
DTSTAMP:20260424T090215
CREATED:20230824T180009Z
LAST-MODIFIED:20230824T180009Z
UID:2219-1699005600-1699027200@encorestage.org
SUMMARY:Alexandria- Mini-Camp & Play in a Day (Conference Day)
DESCRIPTION:When school’s off\, Encore’s on…onstage\, that is! Students in grades K-5 will discover the world of theatre through The Wizard of Oz with characters including Dorothy\, the Tin Man\, the Cowardly Lion\, and more! Enjoy a day of theatre games\, crafts\, creative activities\, and storytelling in a safe and supportive environment. \nFriday\, November 3\, 2023 | Encore @ Fairlington | 10am – 4pm \nHoliday Mini-Camp (Grades K-2): The Wizard of Oz \nPlay in a Day (Grades 3-5): The Wizard of Oz \n(extended hours are available for additional fee) \nFee: $90 \nFairlington Presbyterian Church (3846 King St\, Alexandria\, VA 22302) \nClick here to sign up!
URL:https://encorestage.org/event/alexandria-mini-camp-play-in-a-day-conference-day/
LOCATION:Encore @ Fairlington\, 3846 King St\, Alexandria\, VA\, 22302\, United States
CATEGORIES:Camp
ATTACH;FMTTYPE=image/png:https://encorestage.org/wp-content/uploads/2023/08/Copy-of-Alexandriaa-mini-Wizard-of-Oz.png
ORGANIZER;CN="Encore Stage and Studio":MAILTO:info@encorestage.org
END:VEVENT
BEGIN:VEVENT
DTSTART;TZID=UTC:20231030T100000
DTEND;TZID=UTC:20231030T160000
DTSTAMP:20260424T090215
CREATED:20230824T174822Z
LAST-MODIFIED:20230824T174822Z
UID:2215-1698660000-1698681600@encorestage.org
SUMMARY:Alexandria- Mini-Camp & Play in a Day (Teacher Work Day)
DESCRIPTION:When school’s off\, Encore’s on…onstage\, that is! Students in grades K-5 will discover the world of theatre through Luca with characters including Giulia\, Alberto\, Luca and more! Enjoy a day of theatre games\, crafts\, creative activities\, and storytelling in a safe and supportive environment! \nMonday\, October 30\, 2023 | Encore @ Fairlington | 10am – 4pm \nHoliday Mini-Camp (Grades K-2): Luca \nPlay in a Day (Grades 3-5): Luca \n(extended hours are available for additional fee) \nFee: $90 \nFairlington Presbyterian Church (3846 King St\, Alexandria\, VA 22302) \nClick here to sign up!
URL:https://encorestage.org/event/alexandria-mini-camp-play-in-a-day-teacher-work-day/
LOCATION:Encore @ Fairlington\, 3846 King St\, Alexandria\, VA\, 22302\, United States
CATEGORIES:Camp
ATTACH;FMTTYPE=image/png:https://encorestage.org/wp-content/uploads/2023/08/Copy-of-Holiday-Mini-Luca-.png
ORGANIZER;CN="Encore Stage and Studio":MAILTO:info@encorestage.org
END:VEVENT
BEGIN:VEVENT
DTSTART;TZID=UTC:20231020T100000
DTEND;TZID=UTC:20231020T160000
DTSTAMP:20260424T090215
CREATED:20230824T150259Z
LAST-MODIFIED:20230824T150259Z
UID:2190-1697796000-1697817600@encorestage.org
SUMMARY:North Arlington- Mini-Camp & Play in a Day (Parent Teacher Conferences)
DESCRIPTION:When school’s off\, Encore’s on…onstage\, that is! Students in grades K-5 will discover the world of theatre through Casper the Friendly Ghost! Create spooky adventures with “the friendliest ghost you know!” Enjoy a day of theatre games\, crafts\, creative activities\, and storytelling in a safe and supportive environment. \nFriday October 20\, 2023 | Encore @ Cherrydale | 10am – 4pm \nHoliday Mini-Camp (Grades K-2): Casper the Friendly Ghost \nPlay in a Day (Grades 3-5): Casper the Friendly Ghost \n(extended hours are available for additional fee) \nFee: $90 \nEncore @ Cherrydale United Methodist Church (3701 Lorcom Ln\, Arlington\, VA 22207) \nClick here to sign up!
URL:https://encorestage.org/event/north-arlington-mini-camp-play-in-a-day-parent-teacher-conferences/
LOCATION:Encore @ Cherrydale\, 3701 Lorcom Ln\, Arlington\, 22207\, United States
CATEGORIES:Camp
ATTACH;FMTTYPE=image/png:https://encorestage.org/wp-content/uploads/2023/08/Holiday-Mini-Casper-the-Friendly-Ghost.png
ORGANIZER;CN="Encore Stage and Studio":MAILTO:info@encorestage.org
END:VEVENT
BEGIN:VEVENT
DTSTART;TZID=UTC:20231020T100000
DTEND;TZID=UTC:20231020T160000
DTSTAMP:20260424T090215
CREATED:20230824T144312Z
LAST-MODIFIED:20230824T145144Z
UID:2185-1697796000-1697817600@encorestage.org
SUMMARY:South Arlington- Mini-Camp & Play in a Day (Parent Teacher Conferences)
DESCRIPTION:When school’s off\, Encore’s on…onstage\, that is! Students in grades K-5 will discover the world of theatre through Brave with characters including Merida\, Queen Elinor\, and more! Enjoy a day of theatre games\, crafts\, creative activities\, and storytelling in a safe and supportive environment. \nFriday\, October 20\, 2023 | Encore @ Theatre on the Run | 10am – 4pm \nHoliday Mini-Camp (Grades K-2): Brave \nPlay in a Day (Grades 3-5): Brave \n(extended hours are available for additional fee) \nFee: $90 \nTheatre On The Run (3700 S. Four Mile Run Dr. Arlington\, VA 22206) \nClick here to sign up!
URL:https://encorestage.org/event/south-arlington-mini-camp-play-in-a-day-parent-teacher-conferences/
LOCATION:Encore @ Theatre on the Run\, 3700 S. Four Mile Run Dr.\, Arlington\, VA\, 22206\, United States
CATEGORIES:Camp
ATTACH;FMTTYPE=image/png:https://encorestage.org/wp-content/uploads/2023/08/Copy-of-Holiday-Mini-Brave.png
ORGANIZER;CN="Encore Stage and Studio":MAILTO:info@encorestage.org
END:VEVENT
BEGIN:VEVENT
DTSTART;TZID=UTC:20231009T100000
DTEND;TZID=UTC:20231009T160000
DTSTAMP:20260424T090215
CREATED:20230824T143723Z
LAST-MODIFIED:20230824T150029Z
UID:2183-1696845600-1696867200@encorestage.org
SUMMARY:North Arlington- Mini-Camp & Play in a Day (Professional Learning Day)
DESCRIPTION:When school’s off\, Encore’s on…onstage\, that is! Students in grades K-5 will discover the world of theatre through Lilo & Stitch. Craft\, play and learn about theatre through storytelling to create a play in just one day!\n\n\n\nMonday October 9\, 2023 | Encore @ Cherrydale | 10am – 4pm \nHoliday Mini-Camp (Grades K-2): Lilo and Stitch \nPlay in a Day (Grades 3-5): Lilo and Stitch \n(extended hours are available for additional fee) \nFee: $90 \nEncore @ Cherrydale United Methodist Church (3701 Lorcom Ln\, Arlington\, VA 22207) \nClick here to sign up!
URL:https://encorestage.org/event/north-arlington-mini-camp-play-in-a-day-professional-learning-day/
LOCATION:Encore @ Cherrydale\, 3701 Lorcom Ln\, Arlington\, 22207\, United States
CATEGORIES:Camp
ATTACH;FMTTYPE=image/jpeg:https://encorestage.org/wp-content/uploads/2023/08/NA-Camp-Oct-9-Lilo.jpg
ORGANIZER;CN="Encore Stage and Studio":MAILTO:info@encorestage.org
END:VEVENT
BEGIN:VEVENT
DTSTART;TZID=UTC:20230925T100000
DTEND;TZID=UTC:20230925T160000
DTSTAMP:20260424T090215
CREATED:20230823T202709Z
LAST-MODIFIED:20230824T144407Z
UID:2156-1695636000-1695657600@encorestage.org
SUMMARY:South Arlington- Mini-Camp & Play in a Day (Yom Kippur)
DESCRIPTION:When school’s off\, Encore’s on…onstage\, that is! Students in grades K-5 will discover the world of theatre through Luca with characters including Giulia\, Alberto\, Luca and more! Enjoy a day of theatre games\, crafts\, creative activities\, and storytelling in a safe and supportive environment. \nMonday\, September 25\, 2023 | Encore @ Theatre on the Run | 10am – 4pm \nHoliday Mini-Camp (Grades K-2): Luca \nPlay in a Day (Grades 3-5): Luca \n(extended hours are available for additional fee) \nFee: $90 \nTheatre On The Run (3700 S. Four Mile Run Dr. Arlington\, VA 22206) \nClick here to sign up!
URL:https://encorestage.org/event/south-arlington-luca-mini-camp-play-in-a-day-yom-kippur/
LOCATION:Encore @ Theatre on the Run\, 3700 S. Four Mile Run Dr.\, Arlington\, VA\, 22206\, United States
CATEGORIES:Camp
ATTACH;FMTTYPE=image/png:https://encorestage.org/wp-content/uploads/2023/08/Holiday-Mini-Luca-.png
ORGANIZER;CN="Encore Stage and Studio":MAILTO:info@encorestage.org
END:VEVENT
BEGIN:VEVENT
DTSTART;TZID=UTC:20230925T100000
DTEND;TZID=UTC:20230925T160000
DTSTAMP:20260424T090215
CREATED:20230823T200839Z
LAST-MODIFIED:20230824T142633Z
UID:2151-1695636000-1695657600@encorestage.org
SUMMARY:North Arlington- Mini-Camp & Play in a Day (Yom Kippur)
DESCRIPTION:When school’s off\, Encore’s on…onstage\, that is! Students in grades K-5 will discover the world of theatre through The Super Mario Bros Movie with characters including Mario\, Luigi\, Princess Peach and more! Enjoy a day of theatre games\, crafts\, creative activities\, and storytelling in a safe and supportive environment. \nMonday\, September 25\, 2023 | Encore @ Cherrydale | 10am – 4pm \nHoliday Mini-Camp (Grades K-2): The Super Mario Brothers \nPlay in a Day (Grades 3-5): The super Mario Brothers \n(extended hours are available for additional fee) \nFee: $90 \nEncore @ Cherrydale United Methodist Church (3701 Lorcom Ln\, Arlington\, VA 22207) \nClick here to sign up!
URL:https://encorestage.org/event/super-mario-brothers-mini-camp-play-in-a-day-yom-kippur/
LOCATION:Encore @ Cherrydale\, 3701 Lorcom Ln\, Arlington\, 22207\, United States
CATEGORIES:Camp,Classes
ATTACH;FMTTYPE=image/jpeg:https://encorestage.org/wp-content/uploads/2023/08/NA-Camp-Supermario.jpg
ORGANIZER;CN="Encore Stage and Studio":MAILTO:info@encorestage.org
END:VEVENT
END:VCALENDAR