BEGIN:VCALENDAR
VERSION:2.0
PRODID:-//Encore Stage &amp; Studio - ECPv6.15.20//NONSGML v1.0//EN
CALSCALE:GREGORIAN
METHOD:PUBLISH
X-ORIGINAL-URL:https://encorestage.org
X-WR-CALDESC:Events for Encore Stage &amp; Studio
REFRESH-INTERVAL;VALUE=DURATION:PT1H
X-Robots-Tag:noindex
X-PUBLISHED-TTL:PT1H
BEGIN:VTIMEZONE
TZID:UTC
BEGIN:STANDARD
TZOFFSETFROM:+0000
TZOFFSETTO:+0000
TZNAME:UTC
DTSTART:20240101T000000
END:STANDARD
END:VTIMEZONE
BEGIN:VEVENT
DTSTART;TZID=UTC:20251104T100000
DTEND;TZID=UTC:20251104T160000
DTSTAMP:20260424T041708
CREATED:20250811T174958Z
LAST-MODIFIED:20250811T174958Z
UID:6455-1762250400-1762272000@encorestage.org
SUMMARY:Pokemon Mini-Camp & Play in a Day
DESCRIPTION:Explore the world of theatre as you journey to become the Very best\, Like no one ever was! Learn and discover alongside characters like Ash\, Pikachu\, Liko\, Roy and your favorite Pokemon! Enjoy a day of theatre games\, crafts\, creative activities\, and storytelling in a safe and supportive environment. \nHoliday Mini Camps for Grades K-2\nPlay in a Day for Grades 3-5\nWhen school’s off\, Encore’s on…onstage\, that is!  While school is on a short vacation\, Encore will take its students on a vacation of a lifetime–into popular films/stories and literary destinations! \nStudents in grades K-2 will discover the world of theatre through different themes! Enjoy a day of theatre games\, crafts\, creative activities\, and storytelling in a safe and supportive environment. Students in grades 3-5  will craft\, play and learn about theatre through storytelling and create a play in just one day! \nCamp Hours: 10am – 4pm\nAM Extended Hours: 8:30am – 10:00am\nPM Extended Hours: 4:00pm – 5:30pm \nCamp Fee: $95\n$15 AM Extended hours and $15 PM Extended hours \nLocation: Encore @ Cherrydale United Methodist Church (3701 Lorcom Ln\, Arlington\, VA 22207) \nEnroll Now
URL:https://encorestage.org/event/pokemon-mini-camp-play-in-a-day/
LOCATION:Encore @ Cherrydale\, 3701 Lorcom Ln\, Arlington\, 22207\, United States
CATEGORIES:Camp
ATTACH;FMTTYPE=image/png:https://encorestage.org/wp-content/uploads/2025/07/Holiday-2025-2026-17.png
ORGANIZER;CN="Encore Stage and Studio":MAILTO:info@encorestage.org
END:VEVENT
END:VCALENDAR