BEGIN:VCALENDAR
VERSION:2.0
PRODID:-//Encore Stage &amp; Studio - ECPv6.15.20//NONSGML v1.0//EN
CALSCALE:GREGORIAN
METHOD:PUBLISH
X-WR-CALNAME:Encore Stage &amp; Studio
X-ORIGINAL-URL:https://encorestage.org
X-WR-CALDESC:Events for Encore Stage &amp; Studio
REFRESH-INTERVAL;VALUE=DURATION:PT1H
X-Robots-Tag:noindex
X-PUBLISHED-TTL:PT1H
BEGIN:VTIMEZONE
TZID:UTC
BEGIN:STANDARD
TZOFFSETFROM:+0000
TZOFFSETTO:+0000
TZNAME:UTC
DTSTART:20250101T000000
END:STANDARD
END:VTIMEZONE
BEGIN:VEVENT
DTSTART;TZID=UTC:20260320T100000
DTEND;TZID=UTC:20260320T160000
DTSTAMP:20260423T192951
CREATED:20251022T182606Z
LAST-MODIFIED:20251022T182607Z
UID:6992-1774000800-1774022400@encorestage.org
SUMMARY:Zootopia Mini-Camp & Play in a Day
DESCRIPTION:When school’s off\, Encore’s on…onstage\, that is!  While school is on a short vacation\, Encore will take its students on a vacation of a lifetime–into popular films/stories and literary destinations! \nStudents in grades K-2 will discover the world of theatre through different themes! Enjoy a day of theatre games\, crafts\, creative activities\, and storytelling in a safe and supportive environment. Students in grades 3-5  will craft\, play and learn about theatre through storytelling and create a play in just one day! \nExplore the world of Theatre as your students enter to the City of Zootopia where anyone can be anything. With characters like Judy Hops\, Nick\, Flash\, and more! Enjoy a day of theatre games\, crafts\, creative activities\, and storytelling in a safe and supportive environment. \nFriday\, March 20\, 2026 | 10:00am-4:00pm | Encore @ Fairlington  \nAM & PM Extended Care available for an additional fee \n$20 AM Extended Care \n$20 PM Extended Care \nLocation: Encore @ Fairlington Presbyterian Church (3846 King St\, Alexandria\, VA 22302)
URL:https://encorestage.org/event/zootopia-mini-camp-play-in-a-day-2/
LOCATION:Encore @ Fairlington\, 3846 King St\, Alexandria\, VA\, 22302\, United States
CATEGORIES:Camp
ATTACH;FMTTYPE=image/png:https://encorestage.org/wp-content/uploads/2025/10/2025-Holiday-Mini-Camps-PIAD-17-1.png
ORGANIZER;CN="Encore Stage and Studio":MAILTO:info@encorestage.org
END:VEVENT
BEGIN:VEVENT
DTSTART;TZID=UTC:20260320T100000
DTEND;TZID=UTC:20260320T160000
DTSTAMP:20260423T192951
CREATED:20251110T193339Z
LAST-MODIFIED:20251110T193339Z
UID:7169-1774000800-1774022400@encorestage.org
SUMMARY:Scooby Doo Mini-Camp & Play in a Day
DESCRIPTION:When school’s off\, Encore’s on…onstage\, that is! Students in grades K-2 will discover the world of theatre through Scooby-Doo! Students in grades 3-5 will create a Play In A Day based on Scooby-Doo! \nFriday\, March 20\, 2026\nTime: 10:00am–4:00pm (Extended Care available for additional fee) \nLocation: Encore @ Cherrydale United Methodist Church (3701 Lorcom Lane\, Arlington\, VA 22207) \nFee: $95 \n  \nAM Extended Care: $20 \nTime: 8:30-10:00 AM \nPM Extended Care: $20 \nTime: 4:00-5:30PM \n 
URL:https://encorestage.org/event/scooby-doo-mini-camp-play-in-a-day-2/
LOCATION:Encore @ Cherrydale\, 3701 Lorcom Ln\, Arlington\, 22207\, United States
CATEGORIES:Camp
ATTACH;FMTTYPE=image/png:https://encorestage.org/wp-content/uploads/2025/11/Scooby.png
ORGANIZER;CN="Encore Stage and Studio":MAILTO:info@encorestage.org
END:VEVENT
BEGIN:VEVENT
DTSTART;TZID=UTC:20260330T080000
DTEND;TZID=UTC:20260330T170000
DTSTAMP:20260423T192951
CREATED:20250811T213618Z
LAST-MODIFIED:20251110T193624Z
UID:6523-1774857600-1774890000@encorestage.org
SUMMARY:Encanto Mini-Camp & Play in a Day (Spring Break)
DESCRIPTION:Explore the World of Theatre through the story of Encanto! Learn along side the Family Madrigal with Characters like Mirabel\, Abuela\, Isabela\, Luisa\, and Bruno. Enjoying a day of theatre games\, crafts\, creative activities\, and storytelling in a safe and supportive environment. \nSpring Break Camp\nJoin us for Encore’s spring break camp inspired by our favorite movies and stories! Enrollment is a la carte. Enroll for select days to fit your schedule or the entire week. Small groups of students will enjoy movement\, theatre games and crafts led by Encore’s Teaching Artists. \nCamp hours: 10am – 4pm \nAM Extended Hours: 8:30am – 10:00am\nPM Extended Hours: 4:00pm-5:30pm \nFees: $95 per day or $450 for the full week\n$15 AM extended hours and $15 PM extended hours.\nEnroll Now
URL:https://encorestage.org/event/encanto-mini-camp-play-in-a-day-spring-break/
LOCATION:Encore @ Cherrydale\, 3701 Lorcom Ln\, Arlington\, 22207\, United States
CATEGORIES:Camp
ATTACH;FMTTYPE=image/png:https://encorestage.org/wp-content/uploads/2025/07/Holiday-2025-2026-5.png
ORGANIZER;CN="Encore Stage and Studio":MAILTO:info@encorestage.org
END:VEVENT
BEGIN:VEVENT
DTSTART;TZID=UTC:20260331T100000
DTEND;TZID=UTC:20260331T160000
DTSTAMP:20260423T192951
CREATED:20250811T213741Z
LAST-MODIFIED:20251110T193644Z
UID:6525-1774951200-1774972800@encorestage.org
SUMMARY:Sonic & Mario Adventures Mini-Camp & Play in a Day (Spring Break)
DESCRIPTION:Explore the World of Theatre Along side Videogame legends Sonic the Hedgehog and Super Mario! Enjoy a day of theatre games\, crafts\, creative activities\, and storytelling in a safe and supportive enviornment with characters like Luigi\, Tails\, Princess Peach\, Shadow\, Knuckles and more! \nSpring Break Camp\nJoin us for Encore’s spring break camp inspired by our favorite movies and stories! Enrollment is a la carte. Enroll for select days to fit your schedule or the entire week. Small groups of students will enjoy movement\, theatre games and crafts led by Encore’s Teaching Artists. \nCamp hours: 10am – 4pm \nAM Extended Hours: 8:30am – 10:00am\nPM Extended Hours: 4:00pm-5:30pm \nFees: $95 per day or $450 for the full week\n$15 AM extended hours and $15 PM extended hours.\nEnroll Now
URL:https://encorestage.org/event/sonic-mario-adventures-mini-camp-play-in-a-day-spring-break/
LOCATION:Encore @ Cherrydale\, 3701 Lorcom Ln\, Arlington\, 22207\, United States
CATEGORIES:Camp
ATTACH;FMTTYPE=image/png:https://encorestage.org/wp-content/uploads/2025/07/Holiday-2025-2026-6.png
ORGANIZER;CN="Encore Stage and Studio":MAILTO:info@encorestage.org
END:VEVENT
END:VCALENDAR