BEGIN:VCALENDAR
VERSION:2.0
PRODID:-//Encore Stage &amp; Studio - ECPv6.15.20//NONSGML v1.0//EN
CALSCALE:GREGORIAN
METHOD:PUBLISH
X-ORIGINAL-URL:https://encorestage.org
X-WR-CALDESC:Events for Encore Stage &amp; Studio
REFRESH-INTERVAL;VALUE=DURATION:PT1H
X-Robots-Tag:noindex
X-PUBLISHED-TTL:PT1H
BEGIN:VTIMEZONE
TZID:UTC
BEGIN:STANDARD
TZOFFSETFROM:+0000
TZOFFSETTO:+0000
TZNAME:UTC
DTSTART:20220101T000000
END:STANDARD
END:VTIMEZONE
BEGIN:VEVENT
DTSTART;TZID=UTC:20240106T120000
DTEND;TZID=UTC:20240106T140000
DTSTAMP:20260422T172837
CREATED:20230919T214215Z
LAST-MODIFIED:20230919T214215Z
UID:2517-1704542400-1704549600@encorestage.org
SUMMARY:Pre-Audition Workshop: Swiss Family Robinson
DESCRIPTION:Our optional pre-audition workshops help students learn what to expect at an Encore audition and how to present themselves. Join us to remove the mystery from the audition process and prepare yourself for Swiss Family Robinson open call! \nSaturday\, January 6\, 2024 | Encore @ Cherrydale | 12:00pm-2:00pm \nSaturday\, January 6\, 2024\nTime: 12:00pm-2:00pm \nLocation: Encore @ Cherrydale United Methodist Church (3701 Lorcom Ln\, Arlington\, VA 22207) \nFee: $80 \nClick Here to Sign Up!
URL:https://encorestage.org/event/pre-audition-workshop-swiss-family-robinson/
LOCATION:Encore @ Cherrydale\, 3701 Lorcom Ln\, Arlington\, 22207\, United States
CATEGORIES:Auditions
ATTACH;FMTTYPE=image/png:https://encorestage.org/wp-content/uploads/2023/09/Adventures-Swiss-Family-Robinson-Square-Design-3.png
ORGANIZER;CN="Encore Stage and Studio":MAILTO:info@encorestage.org
END:VEVENT
BEGIN:VEVENT
DTSTART;TZID=UTC:20231003T053000
DTEND;TZID=UTC:20231003T203000
DTSTAMP:20260422T172837
CREATED:20230905T201325Z
LAST-MODIFIED:20230905T202619Z
UID:2328-1696311000-1696365000@encorestage.org
SUMMARY:Auditions for Finding Nemo Jr.
DESCRIPTION:Students ages 9-18 are invited to audition for cast\, ages 12 and older may audition for crew for Encore’s production of Disney’s Finding Nemo Jr.! \nAbout Finding Nemo Jr.: Adapted from the Disney classic\, this beloved story follows Marlin\, an anxious and over-protective\nclownfish\, who lives in the Great Barrier Reef with his child Nemo\, who longs to explore the world\nbeyond their anemone home. But when Nemo is captured\, Marlin decides to face his fears and sets off\non an epic adventure across the ocean. With the help of lovable characters such as the optimistic Dory\,\nlaid-back sea turtle Crush\, and the Tank Gang\, Marlin and Nemo both overcome challenges on their\njourney to find each other and themselves. Join us for this underwater adventure in Encore’s production\nof Disney’s Finding Nemo Jr The Musical! \nPerformances held at Thomas Jefferson Community Theatre (125 S. Old Glebe Rd. Arlington\, VA 22204) | Rehearsals held at Encore @ Cherrydale (3701 Lorcom Ln Arlington\, VA 22207) \nAuditions are October 3\, 2023 | 5:30pm-8:30pm  | Encore @ Cherrydale \nSign up for Finding Nemo Auditions Here!
URL:https://encorestage.org/event/auditions-for-finding-nemo-jr/
LOCATION:Encore @ Cherrydale\, 3701 Lorcom Ln\, Arlington\, 22207\, United States
CATEGORIES:Auditions
ATTACH;FMTTYPE=image/jpeg:https://encorestage.org/wp-content/uploads/2023/09/2500w-cindykanephotography.BeOurGuest-11.jpg
ORGANIZER;CN="Encore Stage and Studio":MAILTO:info@encorestage.org
END:VEVENT
BEGIN:VEVENT
DTSTART;TZID=UTC:20230919T173000
DTEND;TZID=UTC:20230919T203000
DTSTAMP:20260422T172837
CREATED:20230821T170652Z
LAST-MODIFIED:20230821T170652Z
UID:2133-1695144600-1695155400@encorestage.org
SUMMARY:Auditions for Mystery at Shady Acres and Reindeer Games
DESCRIPTION:Students ages 9-18 are invited to audition for cast\, ages 12 and older may audition for crew for Encore’s productions of Mystery at Shady Acres and Reindeer Games. \nAbout Mystery at Shady Acres: The Shady Acres hotel staff is frantically preparing for the arrival of the prestigious Fairfaxes. Right from the start – everything seems to go awry! Just when the hotel manager Mr. Clifford thinks it’s all back to normal\, Mrs. Fairfax’s diamond necklace is stolen! Who could it be? And who is the mysterious man lurking about? We invite you to uncover the mystery with us in Encore’s production of the Mystery at Shady Acres! \nPerformances held at Thomas Jefferson Community Theatre (125 S. Old Glebe Rd. Arlington\, VA 22204) | Rehearsals held at Encore @ Cherrydale (3701 Lorcom Ln Arlington\, VA 22207) \nAbout Reindeer Games: Pulling Santa’s sleigh is hard work. And when team leader Dasher decides to retire\, coaches Kris and Carol Kringle host the Reindeer Games to find the next member of the Nifty Nine\, Santa’s reindeer crew. Eager reindeer recruits showcase their talents in a series of games\, but these aren’t your typical winter events\, nor your typical competitors. Before Coach Kris can announce the newest member\, the original Nifty Nine make a cameo appearance\, with a surprise announcement! Turns out\, everyone’s a winner when you’re on Santa’s nice list.  Join us for this Christmas tale in Encore’s production of Reindeer Games! \nPerformances held at Gunston Arts Center – Theatre Two (2700 S. Lang St. Arlington\, VA 22206) | Rehearsals held at Encore @ Cherrydale (3701 Lorcom Ln Arlington\, VA 22207) \nAuditions are September 19\, 2023 | 5:30pm-8:30pm  | Encore @ Cherrydale\n \nClick here to view the rehearsal calendars. Sign up for your audition time slot.
URL:https://encorestage.org/event/auditions-for-mystery-at-shady-acres-and-reindeer-games/
LOCATION:Encore @ Cherrydale\, 3701 Lorcom Ln\, Arlington\, 22207\, United States
CATEGORIES:Auditions
ATTACH;FMTTYPE=image/jpeg:https://encorestage.org/wp-content/uploads/2023/06/2500w-cindykanephotography-encore-charlottesweb-10.jpg
ORGANIZER;CN="Encore Stage and Studio":MAILTO:info@encorestage.org
END:VEVENT
END:VCALENDAR